BEGIN:VCALENDAR
VERSION:2.0
PRODID:-//https://stjohns1p.com///NONSGML kigkonsult.se iCalcreator 2.10.15//
METHOD:PUBLISH
BEGIN:VEVENT
UID:20260420T150147UTC-4775eAp7RP@https://stjohns1p.com/
DTSTAMP:20260420T150147Z
DESCRIPTION: https://stjohns1p.com/calendar/event/101-officers-rehearsal
DTSTART:20260408T190000Z
DTEND:20260408T235700Z
LOCATION:St. John's Lodge #1P (2115 Broad Street\, Cranston\, RI 02905\, US
 A)
SUMMARY:Officers Rehearsal
URL:https://stjohns1p.com/calendar/event/101-officers-rehearsal
END:VEVENT
END:VCALENDAR
