BEGIN:VCALENDAR
VERSION:2.0
PRODID:-//https://stjohns1p.com///NONSGML kigkonsult.se iCalcreator 2.10.15//
METHOD:PUBLISH
BEGIN:VEVENT
UID:20260420T150212UTC-9661ersCsI@https://stjohns1p.com/
DTSTAMP:20260420T150212Z
DESCRIPTION: https://stjohns1p.com/calendar/event/102-gaspee-chapter-demola
 y-second-time-this-month
DTSTART:20260425T140000Z
DTEND:20260425T235700Z
LOCATION:St. John's Lodge #1P (2115 Broad Street\, Cranston\, RI 02905\, US
 A)
SUMMARY:Gaspee Chapter DeMolay (Second time this Month)
URL:https://stjohns1p.com/calendar/event/102-gaspee-chapter-demolay-second-
 time-this-month
END:VEVENT
END:VCALENDAR
