BEGIN:VCALENDAR
VERSION:2.0
PRODID:-//https://stjohns1p.com///NONSGML kigkonsult.se iCalcreator 2.10.15//
METHOD:PUBLISH
BEGIN:VEVENT
UID:20260425T155320UTC-6067gbXc7s@https://stjohns1p.com/
DTSTAMP:20260425T155320Z
DESCRIPTION: https://stjohns1p.com/calendar/event/20-mm-ea-forum
DTSTART:20190924T142100Z
DTEND:20190924T210000Z
LOCATION:St. John's Lodge #1P (2115 Broad Street\, Cranston\, RI 02905\, US
 A)
SUMMARY:MM & EA Forum
URL:https://stjohns1p.com/calendar/event/20-mm-ea-forum
END:VEVENT
END:VCALENDAR
