BEGIN:VCALENDAR
VERSION:2.0
PRODID:-//https://stjohns1p.com///NONSGML kigkonsult.se iCalcreator 2.10.15//
METHOD:PUBLISH
BEGIN:VEVENT
UID:20260422T173738UTC-2037LK8INP@https://stjohns1p.com/
DTSTAMP:20260422T173738Z
DESCRIPTION: https://stjohns1p.com/calendar/event/21-grand-lodge-picnic
DTSTART:20230813T120000Z
DTEND:20230813T160000Z
LOCATION:Buttonwoods Masonic Park (116 Long St\, Warwick\, RI 02886\, USA)
SUMMARY:Grand Lodge Picnic
URL:https://stjohns1p.com/calendar/event/21-grand-lodge-picnic
END:VEVENT
END:VCALENDAR
