BEGIN:VCALENDAR
VERSION:2.0
PRODID:-//https://stjohns1p.com///NONSGML kigkonsult.se iCalcreator 2.10.15//
METHOD:PUBLISH
BEGIN:VEVENT
UID:20260422T120647UTC-8233H5LcHB@https://stjohns1p.com/
DTSTAMP:20260422T120647Z
DESCRIPTION: https://stjohns1p.com/calendar/event/71-st-johns-regular-commu
 nication-collegivm-lvminosvm-joint-meeting
DTSTART:20231220T180000Z
DTEND:20231220T210000Z
LOCATION:St. John's Lodge #1P (2115 Broad Street\, Cranston\, RI 02905\, US
 A)
SUMMARY:St. Johns Regular Communication / Collegivm Lvminosvm (Joint Meetin
 g)
URL:https://stjohns1p.com/calendar/event/71-st-johns-regular-communication-
 collegivm-lvminosvm-joint-meeting
END:VEVENT
END:VCALENDAR
