BEGIN:VCALENDAR
VERSION:2.0
PRODID:-//https://stjohns1p.com///NONSGML kigkonsult.se iCalcreator 2.10.15//
METHOD:PUBLISH
BEGIN:VEVENT
UID:20260422T051233UTC-6852Vg2KpD@https://stjohns1p.com/
DTSTAMP:20260422T051233Z
DESCRIPTION:April 20th Monthly Communication\n5:30 PM: St. Johns open to tr
 ansact such business as shall regularly come before it.6:15 PM: Dinner: Tu
 rkey and Stuffing\, Mashed Potatoes and Cranberry Sauce\, Seafood Casserol
 e Salad\, Coffee\, Tea\, and Dessert(Fish meals are available with advance
  request)7:30 PM: Receive DDGM7:45 PM: Program https://stjohns1p.com/calen
 dar/event/76-dd-visitation-regular-communication
DTSTART:20240417T190000Z
DTEND:20240417T210000Z
LOCATION:St. John's Lodge #1P (2115 Broad Street\, Cranston\, RI 02905\, US
 A)
SUMMARY:  DD Visitation & Regular Communication
URL:https://stjohns1p.com/calendar/event/76-dd-visitation-regular-communica
 tion
END:VEVENT
END:VCALENDAR
