BEGIN:VCALENDAR
VERSION:2.0
PRODID:-//https://stjohns1p.com///NONSGML kigkonsult.se iCalcreator 2.10.15//
METHOD:PUBLISH
BEGIN:VEVENT
UID:20260423T143118UTC-3047OGlJvj@https://stjohns1p.com/
DTSTAMP:20260423T143118Z
DESCRIPTION: https://stjohns1p.com/calendar/event/78-gaspee-days-parade
DTSTART:20220611T093000Z
DTEND:20220611T120000Z
LOCATION:St. John's Lodge #1P (2115 Broad Street\, Cranston\, RI 02905\, US
 A)
SUMMARY:Gaspee Days Parade 
URL:https://stjohns1p.com/calendar/event/78-gaspee-days-parade
END:VEVENT
END:VCALENDAR
