BEGIN:VCALENDAR
VERSION:2.0
PRODID:-//https://stjohns1p.com///NONSGML kigkonsult.se iCalcreator 2.10.15//
METHOD:PUBLISH
BEGIN:VEVENT
UID:20260420T163125UTC-1437SpoUoa@https://stjohns1p.com/
DTSTAMP:20260420T163125Z
DESCRIPTION: https://stjohns1p.com/calendar/event/95-officers-rehearsal-sec
 ond-time-of-the-month
DTSTART:20260311T190000Z
DTEND:20260311T235700Z
LOCATION:St. John's Lodge #1P (2115 Broad Street\, Cranston\, RI 02905\, US
 A)
SUMMARY:Officers Rehearsal (Second time of the Month)
URL:https://stjohns1p.com/calendar/event/95-officers-rehearsal-second-time-
 of-the-month
END:VEVENT
END:VCALENDAR
