BEGIN:VCALENDAR
VERSION:2.0
PRODID:-//https://stjohns1p.com///NONSGML kigkonsult.se iCalcreator 2.10.15//
METHOD:PUBLISH
BEGIN:VEVENT
UID:20260420T150139UTC-3479VSLz9c@https://stjohns1p.com/
DTSTAMP:20260420T150139Z
DESCRIPTION: https://stjohns1p.com/calendar/event/96-rising-sun-lodge-30
DTSTART:20260420T193000Z
DTEND:20260420T235700Z
LOCATION:Rising Sun Lodge (222 Taunton Avenue\, East Providence\, RI 02914\
 , USA)
SUMMARY:Rising Sun Lodge #30
URL:https://stjohns1p.com/calendar/event/96-rising-sun-lodge-30
END:VEVENT
END:VCALENDAR
