BEGIN:VCALENDAR
VERSION:2.0
PRODID:-//https://stjohns1p.com///NONSGML kigkonsult.se iCalcreator 2.10.15//
METHOD:PUBLISH
BEGIN:VEVENT
UID:20260420T162239UTC-18632v7gWv@https://stjohns1p.com/
DTSTAMP:20260420T162239Z
DESCRIPTION:Dinner @ 6 PM@ 7pm St. Johns Opens to transact such business as
  shall regularly come before it @ 7:15pm 50 Year Service Awards and Progra
 m\nCall: Brother Senior Steward @ 401-861-1757or email: sj1prov@gmail.comN
 o later than Friday\, February 13th for reservations.Any Brother with spec
 ial dietary needs beyond the listed menu\,please mention it in your messag
 e.\nPlease refrain from using $100 or $50 dollar bills when paying fordinn
 er. The Lodge has a limited amount of change available thenight of our mee
 ting. Thank you. https://stjohns1p.com/calendar/event/98-st-johns-communic
 ation-mm-degree-i
DTSTART:20260318T180000Z
DTEND:20260318T235700Z
LOCATION:St. John's Lodge #1P (2115 Broad Street\, Cranston\, RI 02905\, US
 A)
SUMMARY:St Johns Communication & MM Degree I
URL:https://stjohns1p.com/calendar/event/98-st-johns-communication-mm-degre
 e-i
END:VEVENT
END:VCALENDAR
