BEGIN:VCALENDAR
VERSION:2.0
PRODID:-//https://stjohns1p.com///NONSGML kigkonsult.se iCalcreator 2.10.15//
METHOD:PUBLISH
BEGIN:VEVENT
UID:20260420T150139UTC-4800hMcVfz@https://stjohns1p.com/
DTSTAMP:20260420T150139Z
DESCRIPTION: https://stjohns1p.com/calendar/event/99-gaspee-chapter-demolay
DTSTART:20260411T140000Z
DTEND:20260411T235700Z
LOCATION:St. John's Lodge #1P (2115 Broad Street\, Cranston\, RI 02905\, US
 A)
SUMMARY:Gaspee Chapter DeMolay
URL:https://stjohns1p.com/calendar/event/99-gaspee-chapter-demolay
END:VEVENT
END:VCALENDAR
